BEGIN:VCALENDAR
VERSION:2.0
PRODID:-//Turnen - TV 1862 Bensheim e.V - ECPv6.15.15//NONSGML v1.0//EN
CALSCALE:GREGORIAN
METHOD:PUBLISH
X-ORIGINAL-URL:https://tv-bensheim.de/turnen
X-WR-CALDESC:Veranstaltungen für Turnen - TV 1862 Bensheim e.V
REFRESH-INTERVAL;VALUE=DURATION:PT1H
X-Robots-Tag:noindex
X-PUBLISHED-TTL:PT1H
BEGIN:VTIMEZONE
TZID:Europe/Berlin
BEGIN:DAYLIGHT
TZOFFSETFROM:+0100
TZOFFSETTO:+0200
TZNAME:CEST
DTSTART:20240331T010000
END:DAYLIGHT
BEGIN:STANDARD
TZOFFSETFROM:+0200
TZOFFSETTO:+0100
TZNAME:CET
DTSTART:20241027T010000
END:STANDARD
BEGIN:DAYLIGHT
TZOFFSETFROM:+0100
TZOFFSETTO:+0200
TZNAME:CEST
DTSTART:20250330T010000
END:DAYLIGHT
BEGIN:STANDARD
TZOFFSETFROM:+0200
TZOFFSETTO:+0100
TZNAME:CET
DTSTART:20251026T010000
END:STANDARD
BEGIN:DAYLIGHT
TZOFFSETFROM:+0100
TZOFFSETTO:+0200
TZNAME:CEST
DTSTART:20260329T010000
END:DAYLIGHT
BEGIN:STANDARD
TZOFFSETFROM:+0200
TZOFFSETTO:+0100
TZNAME:CET
DTSTART:20261025T010000
END:STANDARD
END:VTIMEZONE
BEGIN:VEVENT
DTSTART;VALUE=DATE:20250303
DTEND;VALUE=DATE:20250304
DTSTAMP:20260422T174144
CREATED:20250228T164330Z
LAST-MODIFIED:20250228T164330Z
UID:8596-1740960000-1741046399@tv-bensheim.de
SUMMARY:Rosenmontag: JHS + AKG Hallen geschlossen KEINE Kurse
DESCRIPTION:
URL:https://tv-bensheim.de/turnen/termine/rosenmontag-jhs-akg-hallen-geschlossen-keine-kurse/
END:VEVENT
BEGIN:VEVENT
DTSTART;VALUE=DATE:20250304
DTEND;VALUE=DATE:20250305
DTSTAMP:20260422T174144
CREATED:20250222T095534Z
LAST-MODIFIED:20250222T095534Z
UID:8571-1741046400-1741132799@tv-bensheim.de
SUMMARY:Faschingsdienstag: Keine Kurse
DESCRIPTION:
URL:https://tv-bensheim.de/turnen/termine/faschingsdienstag-keine-kurse/
LOCATION:Turnhalle der Joseph-Heckler-Schule\, Hohenweg 33\, Bensheim\, 64625\, Germany
END:VEVENT
BEGIN:VEVENT
DTSTART;TZID=Europe/Berlin:20250305T083000
DTEND;TZID=Europe/Berlin:20250305T100000
DTSTAMP:20260422T174144
CREATED:20250228T164500Z
LAST-MODIFIED:20250228T164500Z
UID:8598-1741163400-1741168800@tv-bensheim.de
SUMMARY:Nordic Walking
DESCRIPTION:
URL:https://tv-bensheim.de/turnen/termine/nordic-walking-19/
LOCATION:Parkplatz Gasthof In den Kleingärten
END:VEVENT
BEGIN:VEVENT
DTSTART;TZID=Europe/Berlin:20250312T083000
DTEND;TZID=Europe/Berlin:20250312T100000
DTSTAMP:20260422T174144
CREATED:20250228T164526Z
LAST-MODIFIED:20250228T164526Z
UID:8601-1741768200-1741773600@tv-bensheim.de
SUMMARY:Nordic Walking
DESCRIPTION:
URL:https://tv-bensheim.de/turnen/termine/nordic-walking-20/
LOCATION:Parkplatz Gasthof In den Kleingärten
END:VEVENT
BEGIN:VEVENT
DTSTART;TZID=Europe/Berlin:20250313T200000
DTEND;TZID=Europe/Berlin:20250313T210000
DTSTAMP:20260422T174144
CREATED:20250311T064401Z
LAST-MODIFIED:20250311T064401Z
UID:8642-1741896000-1741899600@tv-bensheim.de
SUMMARY:Zumba: Vertretung durch Sabrina
DESCRIPTION:
URL:https://tv-bensheim.de/turnen/termine/zumba-vertretung-durch-sabrina/
LOCATION:Turnhalle der Joseph-Heckler-Schule\, Hohenweg 33\, Bensheim\, 64625\, Germany
END:VEVENT
BEGIN:VEVENT
DTSTART;TZID=Europe/Berlin:20250317T190000
DTEND;TZID=Europe/Berlin:20250317T200000
DTSTAMP:20260422T174144
CREATED:20250317T170603Z
LAST-MODIFIED:20250317T170603Z
UID:8649-1742238000-1742241600@tv-bensheim.de
SUMMARY:Rückenfit: Vertretung durch Kata
DESCRIPTION:
URL:https://tv-bensheim.de/turnen/termine/rueckenfit-vertretung-durch-kata-6/
LOCATION:Gymnastikraum | Schulsporthalle des AKG\, Franz-Liszt-Straße 8\, Bensheim\, 64625\, Germany
END:VEVENT
BEGIN:VEVENT
DTSTART;TZID=Europe/Berlin:20250318T200000
DTEND;TZID=Europe/Berlin:20250318T210000
DTSTAMP:20260422T174144
CREATED:20250317T170638Z
LAST-MODIFIED:20250317T170638Z
UID:8651-1742328000-1742331600@tv-bensheim.de
SUMMARY:Bodystyling: Vertretung durch Markus
DESCRIPTION:
URL:https://tv-bensheim.de/turnen/termine/bodystyling-vertretung-durch-markus/
LOCATION:Turnhalle der Joseph-Heckler-Schule\, Hohenweg 33\, Bensheim\, 64625\, Germany
END:VEVENT
BEGIN:VEVENT
DTSTART;TZID=Europe/Berlin:20250319T083000
DTEND;TZID=Europe/Berlin:20250319T100000
DTSTAMP:20260422T174144
CREATED:20250316T135840Z
LAST-MODIFIED:20250316T135840Z
UID:8644-1742373000-1742378400@tv-bensheim.de
SUMMARY:Nordic Walking
DESCRIPTION:
URL:https://tv-bensheim.de/turnen/termine/nordic-walking-21/
LOCATION:Parkplatz Sportplatz Schwanheim
END:VEVENT
BEGIN:VEVENT
DTSTART;TZID=Europe/Berlin:20250321T191500
DTEND;TZID=Europe/Berlin:20250321T203000
DTSTAMP:20260422T174144
CREATED:20250223T172254Z
LAST-MODIFIED:20250223T172254Z
UID:8573-1742584500-1742589000@tv-bensheim.de
SUMMARY:Hatha-Yoga: Entfall
DESCRIPTION:
URL:https://tv-bensheim.de/turnen/termine/hatha-yoga-entfall-10/
LOCATION:Gymnastikraum | Schulsporthalle des AKG\, Franz-Liszt-Straße 8\, Bensheim\, 64625\, Germany
END:VEVENT
BEGIN:VEVENT
DTSTART;TZID=Europe/Berlin:20250323T112000
DTEND;TZID=Europe/Berlin:20250323T190000
DTSTAMP:20260422T174144
CREATED:20250310T164742Z
LAST-MODIFIED:20250310T164742Z
UID:8638-1742728800-1742756400@tv-bensheim.de
SUMMARY:30. Wanderung: Rundweg Heppenheim - Ober-Laudenbach und zurück
DESCRIPTION:30. Wanderung Heppenheim über Laudenbach \nWann?\nSonntag\, 23. März 2025 \nWo?\nTreffpunkt ist um 11:20 Uhr am Friedhof in Heppenheim (Erbacher Tal\, L3120) \nWas?\nVom Parkplatz aus folgen wir dem Blütenweg durch die Weinberge bis nach Laudenbach. Dort wechseln wir auf den Burgenstieg\, der uns ziemlich steil bergauf bis zum Abzweig hinab nach Ober-Laudenbach führt\, wo wir im Gasthaus „Zum Kaiserwirt“ einkehren werden. \nAuf dem Rückweg wandern wir durch das Finstertal sanft bergauf bis zu einem Höhenweg\, der uns auf den Burgensteig zurück nach Heppenheim leitet. \nDie Tour ist ca. 13km lang. \nAuch Nichtmitglieder sind als Gäste willkommen. \nAnmeldung?\nBis Donnerstag\, 20.03.2025 bei Margit Knauer (Tel.: 06251/61455 oder mar.knauer@t-online.de)
URL:https://tv-bensheim.de/turnen/termine/30-wanderung-rundweg-heppenheim-ober-laudenbach-und-zurueck/
LOCATION:Friedhof Heppenheim\, Erbacher Tal\, L3120
ORGANIZER;CN="Margit Knauer":MAILTO:mar.knauer@t-online.de
END:VEVENT
BEGIN:VEVENT
DTSTART;TZID=Europe/Berlin:20250324T200000
DTEND;TZID=Europe/Berlin:20250324T210000
DTSTAMP:20260422T174144
CREATED:20250324T060816Z
LAST-MODIFIED:20250324T060816Z
UID:8654-1742846400-1742850000@tv-bensheim.de
SUMMARY:Urbanjazz: Entfall
DESCRIPTION:
URL:https://tv-bensheim.de/turnen/termine/urbanjazz-entfall-4/
LOCATION:Gymnastikraum | Schulsporthalle des AKG\, Franz-Liszt-Straße 8\, Bensheim\, 64625\, Germany
END:VEVENT
BEGIN:VEVENT
DTSTART;TZID=Europe/Berlin:20250326T083000
DTEND;TZID=Europe/Berlin:20250326T100000
DTSTAMP:20260422T174144
CREATED:20250316T135909Z
LAST-MODIFIED:20250316T135909Z
UID:8647-1742977800-1742983200@tv-bensheim.de
SUMMARY:Nordic Walking
DESCRIPTION:
URL:https://tv-bensheim.de/turnen/termine/nordic-walking-22/
LOCATION:Parkplatz Sportplatz Schwanheim
END:VEVENT
BEGIN:VEVENT
DTSTART;TZID=Europe/Berlin:20250327T180000
DTEND;TZID=Europe/Berlin:20250327T190000
DTSTAMP:20260422T174144
CREATED:20250326T095552Z
LAST-MODIFIED:20250326T095552Z
UID:8656-1743098400-1743102000@tv-bensheim.de
SUMMARY:Piloxing: Vertretung durch Sonja
DESCRIPTION:
URL:https://tv-bensheim.de/turnen/termine/piloxing-vertretung-durch-sonja/
LOCATION:Turnhalle der Joseph-Heckler-Schule\, Hohenweg 33\, Bensheim\, 64625\, Germany
END:VEVENT
END:VCALENDAR