BEGIN:VCALENDAR
VERSION:2.0
PRODID:-//Turnen - TV 1862 Bensheim e.V - ECPv6.15.15//NONSGML v1.0//EN
CALSCALE:GREGORIAN
METHOD:PUBLISH
X-ORIGINAL-URL:https://tv-bensheim.de/turnen
X-WR-CALDESC:Veranstaltungen für Turnen - TV 1862 Bensheim e.V
REFRESH-INTERVAL;VALUE=DURATION:PT1H
X-Robots-Tag:noindex
X-PUBLISHED-TTL:PT1H
BEGIN:VTIMEZONE
TZID:Europe/Berlin
BEGIN:DAYLIGHT
TZOFFSETFROM:+0100
TZOFFSETTO:+0200
TZNAME:CEST
DTSTART:20230326T010000
END:DAYLIGHT
BEGIN:STANDARD
TZOFFSETFROM:+0200
TZOFFSETTO:+0100
TZNAME:CET
DTSTART:20231029T010000
END:STANDARD
BEGIN:DAYLIGHT
TZOFFSETFROM:+0100
TZOFFSETTO:+0200
TZNAME:CEST
DTSTART:20240331T010000
END:DAYLIGHT
BEGIN:STANDARD
TZOFFSETFROM:+0200
TZOFFSETTO:+0100
TZNAME:CET
DTSTART:20241027T010000
END:STANDARD
BEGIN:DAYLIGHT
TZOFFSETFROM:+0100
TZOFFSETTO:+0200
TZNAME:CEST
DTSTART:20250330T010000
END:DAYLIGHT
BEGIN:STANDARD
TZOFFSETFROM:+0200
TZOFFSETTO:+0100
TZNAME:CET
DTSTART:20251026T010000
END:STANDARD
END:VTIMEZONE
BEGIN:VEVENT
DTSTART;TZID=Europe/Berlin:20241104T175000
DTEND;TZID=Europe/Berlin:20241104T190000
DTSTAMP:20260422T235329
CREATED:20240915T152003Z
LAST-MODIFIED:20241103T092725Z
UID:8326-1730742600-1730746800@tv-bensheim.de
SUMMARY:Pilates: Früherer Start & Vertretung durch Kata
DESCRIPTION:
URL:https://tv-bensheim.de/turnen/termine/pilates-vertretung-durch-kata-7/
LOCATION:Gymnastikraum | Schulsporthalle des AKG\, Franz-Liszt-Straße 8\, Bensheim\, 64625\, Germany
END:VEVENT
BEGIN:VEVENT
DTSTART;TZID=Europe/Berlin:20241104T200000
DTEND;TZID=Europe/Berlin:20241104T210000
DTSTAMP:20260422T235329
CREATED:20241104T133649Z
LAST-MODIFIED:20241104T133649Z
UID:8452-1730750400-1730754000@tv-bensheim.de
SUMMARY:Urbanjazz: Entfall
DESCRIPTION:
URL:https://tv-bensheim.de/turnen/termine/urbanjazz-entfall-2/
LOCATION:Gymnastikraum | Schulsporthalle des AKG\, Franz-Liszt-Straße 8\, Bensheim\, 64625\, Germany
END:VEVENT
BEGIN:VEVENT
DTSTART;TZID=Europe/Berlin:20241106T083000
DTEND;TZID=Europe/Berlin:20241106T100000
DTSTAMP:20260422T235329
CREATED:20241103T141746Z
LAST-MODIFIED:20241103T141746Z
UID:8447-1730881800-1730887200@tv-bensheim.de
SUMMARY:Nordic Walking
DESCRIPTION:
URL:https://tv-bensheim.de/turnen/termine/nordic-walking-7/
LOCATION:Parkplatz am Höllberg
END:VEVENT
BEGIN:VEVENT
DTSTART;TZID=Europe/Berlin:20241111T164500
DTEND;TZID=Europe/Berlin:20241111T174500
DTSTAMP:20260422T235329
CREATED:20241110T133706Z
LAST-MODIFIED:20241110T133924Z
UID:8455-1731343500-1731347100@tv-bensheim.de
SUMMARY:Standfest & stabil: Zeitverschiebung und Vertretung durch Doris
DESCRIPTION:
URL:https://tv-bensheim.de/turnen/termine/standfest-stabil-zeitverschiebung-und-vertretung-durch-doris/
LOCATION:Anne-Frank-Halle Bensheim
END:VEVENT
BEGIN:VEVENT
DTSTART;TZID=Europe/Berlin:20241111T174500
DTEND;TZID=Europe/Berlin:20241111T184000
DTSTAMP:20260422T235329
CREATED:20241110T133756Z
LAST-MODIFIED:20241110T133756Z
UID:8457-1731347100-1731350400@tv-bensheim.de
SUMMARY:Vital & fit: Zeitverschiebung und Vertretung durch Doris
DESCRIPTION:
URL:https://tv-bensheim.de/turnen/termine/vital-fit-zeitverschiebung-und-vertretung-durch-doris/
LOCATION:Anne-Frank-Halle Bensheim
END:VEVENT
BEGIN:VEVENT
DTSTART;TZID=Europe/Berlin:20241111T180000
DTEND;TZID=Europe/Berlin:20241111T190000
DTSTAMP:20260422T235329
CREATED:20240915T152250Z
LAST-MODIFIED:20240915T160847Z
UID:8332-1731348000-1731351600@tv-bensheim.de
SUMMARY:Pilates: Vertretung durch Kata
DESCRIPTION:
URL:https://tv-bensheim.de/turnen/termine/pilates-vertretung-durch-kata-8/
LOCATION:Gymnastikraum | Schulsporthalle des AKG\, Franz-Liszt-Straße 8\, Bensheim\, 64625\, Germany
END:VEVENT
BEGIN:VEVENT
DTSTART;TZID=Europe/Berlin:20241111T190000
DTEND;TZID=Europe/Berlin:20241111T200000
DTSTAMP:20260422T235329
CREATED:20241110T133830Z
LAST-MODIFIED:20241110T133830Z
UID:8459-1731351600-1731355200@tv-bensheim.de
SUMMARY:Gesund & mobil: Entfall
DESCRIPTION:
URL:https://tv-bensheim.de/turnen/termine/gesund-mobil-entfall/
LOCATION:Anne-Frank-Halle Bensheim
END:VEVENT
BEGIN:VEVENT
DTSTART;TZID=Europe/Berlin:20241113T083000
DTEND;TZID=Europe/Berlin:20241113T100000
DTSTAMP:20260422T235329
CREATED:20241103T141924Z
LAST-MODIFIED:20241103T141924Z
UID:8450-1731486600-1731492000@tv-bensheim.de
SUMMARY:Nordic Walking
DESCRIPTION:
URL:https://tv-bensheim.de/turnen/termine/nordic-walking-8/
LOCATION:Parkplatz am Höllberg
END:VEVENT
BEGIN:VEVENT
DTSTART;TZID=Europe/Berlin:20241115T180000
DTEND;TZID=Europe/Berlin:20241115T190000
DTSTAMP:20260422T235329
CREATED:20241115T155722Z
LAST-MODIFIED:20241115T155722Z
UID:8465-1731693600-1731697200@tv-bensheim.de
SUMMARY:Zumba Gold: Vertretung durch Claudia
DESCRIPTION:
URL:https://tv-bensheim.de/turnen/termine/zumba-gold-vertretung-durch-claudia-2/
END:VEVENT
BEGIN:VEVENT
DTSTART;TZID=Europe/Berlin:20241118T083000
DTEND;TZID=Europe/Berlin:20241118T094500
DTSTAMP:20260422T235329
CREATED:20241117T093439Z
LAST-MODIFIED:20241117T093439Z
UID:8469-1731918600-1731923100@tv-bensheim.de
SUMMARY:Hatha-Yoga: Entfall
DESCRIPTION:
URL:https://tv-bensheim.de/turnen/termine/hatha-yoga-entfall-5/
LOCATION:Gymnastiksaal im Weiherhaus-Stadion\, Dammstraße 121\, Bensheim\, 64625\, Germany
END:VEVENT
BEGIN:VEVENT
DTSTART;TZID=Europe/Berlin:20241118T100000
DTEND;TZID=Europe/Berlin:20241118T111500
DTSTAMP:20260422T235329
CREATED:20241117T093513Z
LAST-MODIFIED:20241117T093513Z
UID:8471-1731924000-1731928500@tv-bensheim.de
SUMMARY:Hatha-Yoga: Entfall
DESCRIPTION:
URL:https://tv-bensheim.de/turnen/termine/hatha-yoga-entfall-6/
LOCATION:Gymnastiksaal im Weiherhaus-Stadion\, Dammstraße 121\, Bensheim\, 64625\, Germany
END:VEVENT
BEGIN:VEVENT
DTSTART;TZID=Europe/Berlin:20241118T180000
DTEND;TZID=Europe/Berlin:20241118T190000
DTSTAMP:20260422T235329
CREATED:20240915T152508Z
LAST-MODIFIED:20240915T155428Z
UID:8338-1731952800-1731956400@tv-bensheim.de
SUMMARY:Pilates: Vertretung durch Kata
DESCRIPTION:
URL:https://tv-bensheim.de/turnen/termine/pilates-vertretung-durch-kata-9/
LOCATION:Gymnastikraum | Schulsporthalle des AKG\, Franz-Liszt-Straße 8\, Bensheim\, 64625\, Germany
END:VEVENT
BEGIN:VEVENT
DTSTART;TZID=Europe/Berlin:20241118T190000
DTEND;TZID=Europe/Berlin:20241118T200000
DTSTAMP:20260422T235329
CREATED:20241115T160150Z
LAST-MODIFIED:20241115T160150Z
UID:8467-1731956400-1731960000@tv-bensheim.de
SUMMARY:Gesund und mobil: Entfall
DESCRIPTION:
URL:https://tv-bensheim.de/turnen/termine/gesund-und-mobil-entfall/
LOCATION:Anne-Frank-Halle Bensheim
END:VEVENT
BEGIN:VEVENT
DTSTART;TZID=Europe/Berlin:20241120T083000
DTEND;TZID=Europe/Berlin:20241120T100000
DTSTAMP:20260422T235329
CREATED:20241115T155615Z
LAST-MODIFIED:20241115T155615Z
UID:8463-1732091400-1732096800@tv-bensheim.de
SUMMARY:Nordic Walking
DESCRIPTION:
URL:https://tv-bensheim.de/turnen/termine/nordic-walking-9/
LOCATION:Treffpunkt Altengassweg\, Altengassweg\, Bensheim\, 64625\, Germany
END:VEVENT
BEGIN:VEVENT
DTSTART;TZID=Europe/Berlin:20241121T180000
DTEND;TZID=Europe/Berlin:20241121T190000
DTSTAMP:20260422T235329
CREATED:20241121T100748Z
LAST-MODIFIED:20241121T100748Z
UID:8513-1732212000-1732215600@tv-bensheim.de
SUMMARY:Piloxing: Entfall
DESCRIPTION:
URL:https://tv-bensheim.de/turnen/termine/piloxing-entfall/
LOCATION:Turnhalle der Joseph-Heckler-Schule\, Hohenweg 33\, Bensheim\, 64625\, Germany
END:VEVENT
BEGIN:VEVENT
DTSTART;TZID=Europe/Berlin:20241121T190000
DTEND;TZID=Europe/Berlin:20241121T200000
DTSTAMP:20260422T235329
CREATED:20241119T183350Z
LAST-MODIFIED:20241119T183350Z
UID:8511-1732215600-1732219200@tv-bensheim.de
SUMMARY:Bodyworkout: Vertretung durch Markus
DESCRIPTION:
URL:https://tv-bensheim.de/turnen/termine/bodyworkout-vertretung-durch-markus/
LOCATION:Turnhalle der Joseph-Heckler-Schule\, Hohenweg 33\, Bensheim\, 64625\, Germany
END:VEVENT
BEGIN:VEVENT
DTSTART;TZID=Europe/Berlin:20241125T083000
DTEND;TZID=Europe/Berlin:20241125T094500
DTSTAMP:20260422T235329
CREATED:20241124T113323Z
LAST-MODIFIED:20241124T113323Z
UID:8515-1732523400-1732527900@tv-bensheim.de
SUMMARY:Hatha-Yoga: Entfall
DESCRIPTION:
URL:https://tv-bensheim.de/turnen/termine/hatha-yoga-entfall-7/
LOCATION:Gymnastiksaal im Weiherhaus-Stadion\, Dammstraße 121\, Bensheim\, 64625\, Germany
END:VEVENT
BEGIN:VEVENT
DTSTART;TZID=Europe/Berlin:20241125T100000
DTEND;TZID=Europe/Berlin:20241125T111500
DTSTAMP:20260422T235329
CREATED:20241124T113413Z
LAST-MODIFIED:20241124T113413Z
UID:8517-1732528800-1732533300@tv-bensheim.de
SUMMARY:Hatha-Yoga: Entfall
DESCRIPTION:
URL:https://tv-bensheim.de/turnen/termine/hatha-yoga-entfall-8/
LOCATION:Gymnastiksaal im Weiherhaus-Stadion\, Dammstraße 121\, Bensheim\, 64625\, Germany
END:VEVENT
BEGIN:VEVENT
DTSTART;TZID=Europe/Berlin:20241125T180000
DTEND;TZID=Europe/Berlin:20241125T190000
DTSTAMP:20260422T235329
CREATED:20240915T152727Z
LAST-MODIFIED:20241110T133851Z
UID:8344-1732557600-1732561200@tv-bensheim.de
SUMMARY:Pilates: Vertretung durch Markus
DESCRIPTION:
URL:https://tv-bensheim.de/turnen/termine/pilates-vertretung-durch-kata-10/
LOCATION:Gymnastikraum | Schulsporthalle des AKG\, Franz-Liszt-Straße 8\, Bensheim\, 64625\, Germany
END:VEVENT
BEGIN:VEVENT
DTSTART;TZID=Europe/Berlin:20241125T200000
DTEND;TZID=Europe/Berlin:20241125T210000
DTSTAMP:20260422T235329
CREATED:20241125T160003Z
LAST-MODIFIED:20241125T160003Z
UID:8519-1732564800-1732568400@tv-bensheim.de
SUMMARY:Urbanjazz: Entfall
DESCRIPTION:
URL:https://tv-bensheim.de/turnen/termine/urbanjazz-entfall-3/
LOCATION:Gymnastikraum | Schulsporthalle des AKG\, Franz-Liszt-Straße 8\, Bensheim\, 64625\, Germany
END:VEVENT
BEGIN:VEVENT
DTSTART;VALUE=DATE:20241126
DTEND;VALUE=DATE:20241127
DTSTAMP:20260422T235329
CREATED:20241125T160400Z
LAST-MODIFIED:20241125T160400Z
UID:8523-1732579200-1732665599@tv-bensheim.de
SUMMARY:Kinderturnen bei Antje: Entfall
DESCRIPTION:
URL:https://tv-bensheim.de/turnen/termine/kinderturnen-bei-antje-entfall/
LOCATION:Turnhalle der Joseph-Heckler-Schule\, Hohenweg 33\, Bensheim\, 64625\, Germany
END:VEVENT
BEGIN:VEVENT
DTSTART;TZID=Europe/Berlin:20241127T083000
DTEND;TZID=Europe/Berlin:20241127T100000
DTSTAMP:20260422T235329
CREATED:20241125T160238Z
LAST-MODIFIED:20241125T160238Z
UID:8521-1732696200-1732701600@tv-bensheim.de
SUMMARY:Nordic Walking
DESCRIPTION:
URL:https://tv-bensheim.de/turnen/termine/nordic-walking-10/
LOCATION:Treffpunkt Altengassweg\, Altengassweg\, Bensheim\, 64625\, Germany
END:VEVENT
END:VCALENDAR