BEGIN:VCALENDAR
VERSION:2.0
PRODID:-//Turnen - TV 1862 Bensheim e.V - ECPv6.15.15//NONSGML v1.0//EN
CALSCALE:GREGORIAN
METHOD:PUBLISH
X-WR-CALNAME:Turnen - TV 1862 Bensheim e.V
X-ORIGINAL-URL:https://tv-bensheim.de/turnen
X-WR-CALDESC:Veranstaltungen für Turnen - TV 1862 Bensheim e.V
REFRESH-INTERVAL;VALUE=DURATION:PT1H
X-Robots-Tag:noindex
X-PUBLISHED-TTL:PT1H
BEGIN:VTIMEZONE
TZID:Europe/Berlin
BEGIN:DAYLIGHT
TZOFFSETFROM:+0100
TZOFFSETTO:+0200
TZNAME:CEST
DTSTART:20230326T010000
END:DAYLIGHT
BEGIN:STANDARD
TZOFFSETFROM:+0200
TZOFFSETTO:+0100
TZNAME:CET
DTSTART:20231029T010000
END:STANDARD
BEGIN:DAYLIGHT
TZOFFSETFROM:+0100
TZOFFSETTO:+0200
TZNAME:CEST
DTSTART:20240331T010000
END:DAYLIGHT
BEGIN:STANDARD
TZOFFSETFROM:+0200
TZOFFSETTO:+0100
TZNAME:CET
DTSTART:20241027T010000
END:STANDARD
BEGIN:DAYLIGHT
TZOFFSETFROM:+0100
TZOFFSETTO:+0200
TZNAME:CEST
DTSTART:20250330T010000
END:DAYLIGHT
BEGIN:STANDARD
TZOFFSETFROM:+0200
TZOFFSETTO:+0100
TZNAME:CET
DTSTART:20251026T010000
END:STANDARD
END:VTIMEZONE
BEGIN:VEVENT
DTSTART;TZID=Europe/Berlin:20241001T200000
DTEND;TZID=Europe/Berlin:20241001T210000
DTSTAMP:20260423T013031
CREATED:20240915T151402Z
LAST-MODIFIED:20240915T161419Z
UID:8316-1727812800-1727816400@tv-bensheim.de
SUMMARY:Bodystyling: Vertretung durch Sonja
DESCRIPTION:
URL:https://tv-bensheim.de/turnen/termine/bodystyling-vertretung-durch-sonja-4/
LOCATION:Turnhalle der Joseph-Heckler-Schule\, Hohenweg 33\, Bensheim\, 64625\, Germany
END:VEVENT
BEGIN:VEVENT
DTSTART;TZID=Europe/Berlin:20241002T083000
DTEND;TZID=Europe/Berlin:20241002T100000
DTSTAMP:20260423T013031
CREATED:20240927T161225Z
LAST-MODIFIED:20240927T161225Z
UID:8413-1727857800-1727863200@tv-bensheim.de
SUMMARY:Nordic Walking
DESCRIPTION:
URL:https://tv-bensheim.de/turnen/termine/nordic-walking-4/
LOCATION:Thermoplastik
END:VEVENT
BEGIN:VEVENT
DTSTART;VALUE=DATE:20241003
DTEND;VALUE=DATE:20241004
DTSTAMP:20260423T013031
CREATED:20240912T195704Z
LAST-MODIFIED:20240915T150010Z
UID:8254-1727913600-1727999999@tv-bensheim.de
SUMMARY:Tag der deutschen Einheit
DESCRIPTION:
URL:https://tv-bensheim.de/turnen/termine/tag-der-deutschen-einheit/
END:VEVENT
BEGIN:VEVENT
DTSTART;TZID=Europe/Berlin:20241004T180000
DTEND;TZID=Europe/Berlin:20241004T190000
DTSTAMP:20260423T013031
CREATED:20240924T162828Z
LAST-MODIFIED:20240924T162828Z
UID:8396-1728064800-1728068400@tv-bensheim.de
SUMMARY:Zumba Gold: Vertretung durch Claudia
DESCRIPTION:
URL:https://tv-bensheim.de/turnen/termine/zumba-gold-vertretung-durch-claudia/
LOCATION:Gymnastikraum | Schulsporthalle des AKG\, Franz-Liszt-Straße 8\, Bensheim\, 64625\, Germany
END:VEVENT
BEGIN:VEVENT
DTSTART;TZID=Europe/Berlin:20241007T180000
DTEND;TZID=Europe/Berlin:20241007T190000
DTSTAMP:20260423T013031
CREATED:20240915T151510Z
LAST-MODIFIED:20240915T161334Z
UID:8318-1728324000-1728327600@tv-bensheim.de
SUMMARY:Pilates: Vertretung durch Kata
DESCRIPTION:
URL:https://tv-bensheim.de/turnen/termine/pilates-vertretung-durch-kata-6/
LOCATION:Gymnastikraum | Schulsporthalle des AKG\, Franz-Liszt-Straße 8\, Bensheim\, 64625\, Germany
END:VEVENT
BEGIN:VEVENT
DTSTART;TZID=Europe/Berlin:20241007T190000
DTEND;TZID=Europe/Berlin:20241007T200000
DTSTAMP:20260423T013031
CREATED:20240915T151547Z
LAST-MODIFIED:20240915T161240Z
UID:8320-1728327600-1728331200@tv-bensheim.de
SUMMARY:Rückenfit: Vertretung durch Kata
DESCRIPTION:
URL:https://tv-bensheim.de/turnen/termine/rueckenfit-vertretung-durch-kata-5/
LOCATION:Gymnastikraum | Schulsporthalle des AKG\, Franz-Liszt-Straße 8\, Bensheim\, 64625\, Germany
END:VEVENT
BEGIN:VEVENT
DTSTART;TZID=Europe/Berlin:20241009T083000
DTEND;TZID=Europe/Berlin:20241009T100000
DTSTAMP:20260423T013031
CREATED:20241006T085046Z
LAST-MODIFIED:20241006T085145Z
UID:8415-1728462600-1728468000@tv-bensheim.de
SUMMARY:Nordic Walking
DESCRIPTION:
URL:https://tv-bensheim.de/turnen/termine/nordic-walking-5/
LOCATION:Busbahnhof Bensheim für Wanderung um Lindenfels
END:VEVENT
BEGIN:VEVENT
DTSTART;TZID=Europe/Berlin:20241010T190000
DTEND;TZID=Europe/Berlin:20241010T200000
DTSTAMP:20260423T013031
CREATED:20241009T183615Z
LAST-MODIFIED:20241009T183615Z
UID:8424-1728586800-1728590400@tv-bensheim.de
SUMMARY:Bodyworkout: Entfall
DESCRIPTION:
URL:https://tv-bensheim.de/turnen/termine/bodyworkout-entfall-2/
LOCATION:Turnhalle der Joseph-Heckler-Schule\, Hohenweg 33\, Bensheim\, 64625\, Germany
END:VEVENT
BEGIN:VEVENT
DTSTART;TZID=Europe/Berlin:20241010T200000
DTEND;TZID=Europe/Berlin:20241010T210000
DTSTAMP:20260423T013031
CREATED:20240924T162915Z
LAST-MODIFIED:20240924T162915Z
UID:8398-1728590400-1728594000@tv-bensheim.de
SUMMARY:Zumba: Vertretung durch Laura
DESCRIPTION:
URL:https://tv-bensheim.de/turnen/termine/zumba-vertretung-durch-laura/
LOCATION:Turnhalle der Joseph-Heckler-Schule\, Hohenweg 33\, Bensheim\, 64625\, Germany
END:VEVENT
BEGIN:VEVENT
DTSTART;VALUE=DATE:20241013
DTEND;VALUE=DATE:20241014
DTSTAMP:20260423T013031
CREATED:20240924T163823Z
LAST-MODIFIED:20241011T154011Z
UID:8400-1728777600-1728863999@tv-bensheim.de
SUMMARY:ABSAGE: Wanderung: Rund um das Fischbachtal zur Burg Lichtenberg
DESCRIPTION:Aus gesundheitlichen Gründen muss die Wanderung leider abgesagt werden \n 
URL:https://tv-bensheim.de/turnen/termine/wanderung-rund-um-das-fischbachtal-zur-burg-lichtenberg/
ORGANIZER;CN="Margit Knauer":MAILTO:mar.knauer@t-online.de
END:VEVENT
BEGIN:VEVENT
DTSTART;VALUE=DATE:20241014
DTEND;VALUE=DATE:20241026
DTSTAMP:20260423T013031
CREATED:20240912T195705Z
LAST-MODIFIED:20240915T145913Z
UID:8257-1728864000-1729900799@tv-bensheim.de
SUMMARY:Herbstferien
DESCRIPTION:
URL:https://tv-bensheim.de/turnen/termine/herbstferien/
END:VEVENT
BEGIN:VEVENT
DTSTART;TZID=Europe/Berlin:20241028T164500
DTEND;TZID=Europe/Berlin:20241028T174500
DTSTAMP:20260423T013031
CREATED:20241025T151945Z
LAST-MODIFIED:20241025T152107Z
UID:8433-1730133900-1730137500@tv-bensheim.de
SUMMARY:Standfest & Stabil: Zeitverschiebung und Vertretung durch Doris
DESCRIPTION:
URL:https://tv-bensheim.de/turnen/termine/standfest-stabil-zeitverschiebung-und-vertretung/
LOCATION:Anne-Frank-Halle Bensheim
END:VEVENT
BEGIN:VEVENT
DTSTART;TZID=Europe/Berlin:20241028T174500
DTEND;TZID=Europe/Berlin:20241028T184000
DTSTAMP:20260423T013031
CREATED:20241025T152042Z
LAST-MODIFIED:20241025T152042Z
UID:8436-1730137500-1730140800@tv-bensheim.de
SUMMARY:Vital und fit: Zeitverschiebung und Vertretung durch Doris
DESCRIPTION:
URL:https://tv-bensheim.de/turnen/termine/vital-und-fit-zeitverschiebung-und-vertretung-durch-doris/
LOCATION:Anne-Frank-Halle Bensheim
END:VEVENT
BEGIN:VEVENT
DTSTART;TZID=Europe/Berlin:20241028T180000
DTEND;TZID=Europe/Berlin:20241028T190000
DTSTAMP:20260423T013031
CREATED:20240912T195658Z
LAST-MODIFIED:20240915T161056Z
UID:8251-1730138400-1730142000@tv-bensheim.de
SUMMARY:Pilates: Vertretung durch Kata
DESCRIPTION:
URL:https://tv-bensheim.de/turnen/termine/pilates-vertretung-durch-kata/
LOCATION:Gymnastikraum | Schulsporthalle des AKG\, Franz-Liszt-Straße 8\, Bensheim\, 64625\, Germany
END:VEVENT
BEGIN:VEVENT
DTSTART;TZID=Europe/Berlin:20241028T184500
DTEND;TZID=Europe/Berlin:20241028T194500
DTSTAMP:20260423T013031
CREATED:20241025T152148Z
LAST-MODIFIED:20241025T152148Z
UID:8439-1730141100-1730144700@tv-bensheim.de
SUMMARY:Gesund und mobil: Zeitverschiebung
DESCRIPTION:
URL:https://tv-bensheim.de/turnen/termine/gesund-und-mobil-zeitverschiebung/
LOCATION:Anne-Frank-Halle Bensheim
END:VEVENT
BEGIN:VEVENT
DTSTART;TZID=Europe/Berlin:20241030T083000
DTEND;TZID=Europe/Berlin:20241030T100000
DTSTAMP:20260423T013031
CREATED:20241026T081404Z
LAST-MODIFIED:20241026T081404Z
UID:8441-1730277000-1730282400@tv-bensheim.de
SUMMARY:Nordic Walking
DESCRIPTION:
URL:https://tv-bensheim.de/turnen/termine/nordic-walking-6/
LOCATION:Busbahnhof Bensheim für Wanderung um Lindenfels
END:VEVENT
END:VCALENDAR