BEGIN:VCALENDAR
VERSION:2.0
PRODID:-//Turnen - TV 1862 Bensheim e.V - ECPv6.15.15//NONSGML v1.0//EN
CALSCALE:GREGORIAN
METHOD:PUBLISH
X-ORIGINAL-URL:https://tv-bensheim.de/turnen
X-WR-CALDESC:Veranstaltungen für Turnen - TV 1862 Bensheim e.V
REFRESH-INTERVAL;VALUE=DURATION:PT1H
X-Robots-Tag:noindex
X-PUBLISHED-TTL:PT1H
BEGIN:VTIMEZONE
TZID:Europe/Berlin
BEGIN:DAYLIGHT
TZOFFSETFROM:+0100
TZOFFSETTO:+0200
TZNAME:CEST
DTSTART:20230326T010000
END:DAYLIGHT
BEGIN:STANDARD
TZOFFSETFROM:+0200
TZOFFSETTO:+0100
TZNAME:CET
DTSTART:20231029T010000
END:STANDARD
BEGIN:DAYLIGHT
TZOFFSETFROM:+0100
TZOFFSETTO:+0200
TZNAME:CEST
DTSTART:20240331T010000
END:DAYLIGHT
BEGIN:STANDARD
TZOFFSETFROM:+0200
TZOFFSETTO:+0100
TZNAME:CET
DTSTART:20241027T010000
END:STANDARD
BEGIN:DAYLIGHT
TZOFFSETFROM:+0100
TZOFFSETTO:+0200
TZNAME:CEST
DTSTART:20250330T010000
END:DAYLIGHT
BEGIN:STANDARD
TZOFFSETFROM:+0200
TZOFFSETTO:+0100
TZNAME:CET
DTSTART:20251026T010000
END:STANDARD
END:VTIMEZONE
BEGIN:VEVENT
DTSTART;VALUE=DATE:20240902
DTEND;VALUE=DATE:20240903
DTSTAMP:20260423T030010
CREATED:20240912T195658Z
LAST-MODIFIED:20240915T150326Z
UID:8252-1725235200-1725321599@tv-bensheim.de
SUMMARY:Winzerfestmontag (Tag der Betriebe)
DESCRIPTION:
URL:https://tv-bensheim.de/turnen/termine/winzerfestmontag-tag-der-betriebe/
END:VEVENT
BEGIN:VEVENT
DTSTART;TZID=Europe/Berlin:20240902T063000
DTEND;TZID=Europe/Berlin:20240902T091500
DTSTAMP:20260423T030010
CREATED:20240912T195658Z
LAST-MODIFIED:20240913T054116Z
UID:8250-1725258600-1725268500@tv-bensheim.de
SUMMARY:Hatha-Yoga: Entfall
DESCRIPTION:
URL:https://tv-bensheim.de/turnen/termine/hatha-yoga-entfall-2/
END:VEVENT
BEGIN:VEVENT
DTSTART;TZID=Europe/Berlin:20240903T170000
DTEND;TZID=Europe/Berlin:20240903T180000
DTSTAMP:20260423T030010
CREATED:20240912T195643Z
LAST-MODIFIED:20240913T054114Z
UID:8245-1725382800-1725386400@tv-bensheim.de
SUMMARY:Bodyfit: Entfall
DESCRIPTION:
URL:https://tv-bensheim.de/turnen/termine/bodyfit-entfall/
END:VEVENT
BEGIN:VEVENT
DTSTART;TZID=Europe/Berlin:20240903T180000
DTEND;TZID=Europe/Berlin:20240903T190000
DTSTAMP:20260423T030010
CREATED:20240912T195627Z
LAST-MODIFIED:20240913T054111Z
UID:8242-1725386400-1725390000@tv-bensheim.de
SUMMARY:Bodystyling: Entfall
DESCRIPTION:
URL:https://tv-bensheim.de/turnen/termine/bodystyling-entfall-2/
END:VEVENT
BEGIN:VEVENT
DTSTART;TZID=Europe/Berlin:20240906T171500
DTEND;TZID=Europe/Berlin:20240906T183000
DTSTAMP:20260423T030010
CREATED:20240912T195657Z
LAST-MODIFIED:20240913T054108Z
UID:8249-1725642900-1725647400@tv-bensheim.de
SUMMARY:Hatha-Yoga: Entfall
DESCRIPTION:
URL:https://tv-bensheim.de/turnen/termine/hatha-yoga-entfall/
END:VEVENT
BEGIN:VEVENT
DTSTART;TZID=Europe/Berlin:20240909T180000
DTEND;TZID=Europe/Berlin:20240909T190000
DTSTAMP:20260423T030010
CREATED:20240912T195705Z
LAST-MODIFIED:20240915T143330Z
UID:8258-1725904800-1725908400@tv-bensheim.de
SUMMARY:Pilates: Vertretung durch Kata
DESCRIPTION:
URL:https://tv-bensheim.de/turnen/termine/pilates-vertretung-durch-kata-2/
END:VEVENT
BEGIN:VEVENT
DTSTART;TZID=Europe/Berlin:20240910T190000
DTEND;TZID=Europe/Berlin:20240910T200000
DTSTAMP:20260423T030010
CREATED:20240912T195627Z
LAST-MODIFIED:20240915T143026Z
UID:8243-1725994800-1725998400@tv-bensheim.de
SUMMARY:Bodyfit: ENTFALL
DESCRIPTION:
URL:https://tv-bensheim.de/turnen/termine/bodyfit-vertretung-durch-sonja/
END:VEVENT
BEGIN:VEVENT
DTSTART;TZID=Europe/Berlin:20240910T200000
DTEND;TZID=Europe/Berlin:20240910T210000
DTSTAMP:20260423T030010
CREATED:20240912T195642Z
LAST-MODIFIED:20240915T143150Z
UID:8244-1725998400-1726002000@tv-bensheim.de
SUMMARY:Bodystyling: ENTFALL
DESCRIPTION:
URL:https://tv-bensheim.de/turnen/termine/bodystyling-vertretung-durch-sonja-3/
END:VEVENT
BEGIN:VEVENT
DTSTART;TZID=Europe/Berlin:20240911T063000
DTEND;TZID=Europe/Berlin:20240911T080000
DTSTAMP:20260423T030010
CREATED:20240912T195625Z
LAST-MODIFIED:20240913T054053Z
UID:8235-1726036200-1726041600@tv-bensheim.de
SUMMARY:Nordic Walking
DESCRIPTION:
URL:https://tv-bensheim.de/turnen/termine/nordic-walking/
END:VEVENT
BEGIN:VEVENT
DTSTART;TZID=Europe/Berlin:20240912T170000
DTEND;TZID=Europe/Berlin:20240912T180000
DTSTAMP:20260423T030010
CREATED:20240912T195625Z
LAST-MODIFIED:20240913T054051Z
UID:8234-1726160400-1726164000@tv-bensheim.de
SUMMARY:Bodyworkout: ENTFALL
DESCRIPTION:
URL:https://tv-bensheim.de/turnen/termine/bodyworkout-entfall/
END:VEVENT
BEGIN:VEVENT
DTSTART;TZID=Europe/Berlin:20240913T191500
DTEND;TZID=Europe/Berlin:20240913T203000
DTSTAMP:20260423T030010
CREATED:20240912T195643Z
LAST-MODIFIED:20240915T144822Z
UID:8248-1726254900-1726259400@tv-bensheim.de
SUMMARY:Hatha-Yoga: Vertretung durch Ulli
DESCRIPTION:
URL:https://tv-bensheim.de/turnen/termine/hatha-yoga-vertretung-durch-ulli/
END:VEVENT
BEGIN:VEVENT
DTSTART;TZID=Europe/Berlin:20240916T083000
DTEND;TZID=Europe/Berlin:20240916T111500
DTSTAMP:20260423T030010
CREATED:20240915T150720Z
LAST-MODIFIED:20240915T162716Z
UID:8306-1726475400-1726485300@tv-bensheim.de
SUMMARY:Hatha-Yoga: Entfall
DESCRIPTION:
URL:https://tv-bensheim.de/turnen/termine/hatha-yoga-entfall-3/
LOCATION:Gymnastiksaal im Weiherhaus-Stadion\, Dammstraße 121\, Bensheim\, 64625\, Germany
END:VEVENT
BEGIN:VEVENT
DTSTART;TZID=Europe/Berlin:20240916T180000
DTEND;TZID=Europe/Berlin:20240916T190000
DTSTAMP:20260423T030010
CREATED:20240915T150602Z
LAST-MODIFIED:20240915T162617Z
UID:8304-1726509600-1726513200@tv-bensheim.de
SUMMARY:Pilates: Vertretung durch Kata
DESCRIPTION:
URL:https://tv-bensheim.de/turnen/termine/pilates-vertretung-durch-kata-4/
LOCATION:Gymnastikraum | Schulsporthalle des AKG\, Franz-Liszt-Straße 8\, Bensheim\, 64625\, Germany
END:VEVENT
BEGIN:VEVENT
DTSTART;TZID=Europe/Berlin:20240916T190000
DTEND;TZID=Europe/Berlin:20240916T200000
DTSTAMP:20260423T030010
CREATED:20240912T195708Z
LAST-MODIFIED:20240915T162538Z
UID:8260-1726513200-1726516800@tv-bensheim.de
SUMMARY:Rückenfit: Vertretung durch Kata
DESCRIPTION:
URL:https://tv-bensheim.de/turnen/termine/rueckenfit-vertretung-durch-kata-3/
LOCATION:Gymnastikraum | Schulsporthalle des AKG\, Franz-Liszt-Straße 8\, Bensheim\, 64625\, Germany
END:VEVENT
BEGIN:VEVENT
DTSTART;TZID=Europe/Berlin:20240916T200000
DTEND;TZID=Europe/Berlin:20240916T210000
DTSTAMP:20260423T030010
CREATED:20240916T054109Z
LAST-MODIFIED:20240916T054256Z
UID:8363-1726516800-1726520400@tv-bensheim.de
SUMMARY:Urban Jazz: Entfall
DESCRIPTION:
URL:https://tv-bensheim.de/turnen/termine/urban-jazz-entfall/
LOCATION:Gymnastikraum | Schulsporthalle des AKG\, Franz-Liszt-Straße 8\, Bensheim\, 64625\, Germany
END:VEVENT
BEGIN:VEVENT
DTSTART;TZID=Europe/Berlin:20240917T190000
DTEND;TZID=Europe/Berlin:20240917T200000
DTSTAMP:20260423T030010
CREATED:20240912T195627Z
LAST-MODIFIED:20240915T162449Z
UID:8241-1726599600-1726603200@tv-bensheim.de
SUMMARY:Bodyfit: Vertretung durch Julia (Piloxing)
DESCRIPTION:
URL:https://tv-bensheim.de/turnen/termine/bodyfit-vertretung-durch-julia-piloxing/
LOCATION:Turnhalle der Joseph-Heckler-Schule\, Hohenweg 33\, Bensheim\, 64625\, Germany
END:VEVENT
BEGIN:VEVENT
DTSTART;TZID=Europe/Berlin:20240917T200000
DTEND;TZID=Europe/Berlin:20240917T210000
DTSTAMP:20260423T030010
CREATED:20240912T195627Z
LAST-MODIFIED:20240915T162409Z
UID:8240-1726603200-1726606800@tv-bensheim.de
SUMMARY:Bodystyling: Entfall
DESCRIPTION:
URL:https://tv-bensheim.de/turnen/termine/bodystyling-entfall/
LOCATION:Turnhalle der Joseph-Heckler-Schule\, Hohenweg 33\, Bensheim\, 64625\, Germany
END:VEVENT
BEGIN:VEVENT
DTSTART;TZID=Europe/Berlin:20240918T083000
DTEND;TZID=Europe/Berlin:20240918T100000
DTSTAMP:20260423T030010
CREATED:20240915T153456Z
LAST-MODIFIED:20240915T153456Z
UID:8354-1726648200-1726653600@tv-bensheim.de
SUMMARY:Nordic Walking
DESCRIPTION:
URL:https://tv-bensheim.de/turnen/termine/nordic-walking-2/
LOCATION:Thermoplastik
END:VEVENT
BEGIN:VEVENT
DTSTART;TZID=Europe/Berlin:20240919T190000
DTEND;TZID=Europe/Berlin:20240919T200000
DTSTAMP:20260423T030010
CREATED:20240916T122336Z
LAST-MODIFIED:20240916T122336Z
UID:8366-1726772400-1726776000@tv-bensheim.de
SUMMARY:Body-Workout: Entfall
DESCRIPTION:
URL:https://tv-bensheim.de/turnen/termine/body-workout-entfall/
LOCATION:Turnhalle der Joseph-Heckler-Schule\, Hohenweg 33\, Bensheim\, 64625\, Germany
END:VEVENT
BEGIN:VEVENT
DTSTART;TZID=Europe/Berlin:20240920T191500
DTEND;TZID=Europe/Berlin:20240920T203000
DTSTAMP:20260423T030010
CREATED:20240915T150902Z
LAST-MODIFIED:20240915T162259Z
UID:8308-1726859700-1726864200@tv-bensheim.de
SUMMARY:Hatha-Yoga: Vertretung durch Ulli
DESCRIPTION:
URL:https://tv-bensheim.de/turnen/termine/hatha-yoga-vertretung-durch-ulli-2/
LOCATION:Gymnastikraum | Schulsporthalle des AKG\, Franz-Liszt-Straße 8\, Bensheim\, 64625\, Germany
END:VEVENT
BEGIN:VEVENT
DTSTART;TZID=Europe/Berlin:20240923T083000
DTEND;TZID=Europe/Berlin:20240923T111500
DTSTAMP:20260423T030010
CREATED:20240915T151023Z
LAST-MODIFIED:20240915T162216Z
UID:8310-1727080200-1727090100@tv-bensheim.de
SUMMARY:Hatha-Yoga: Entfall
DESCRIPTION:
URL:https://tv-bensheim.de/turnen/termine/hatha-yoga-entfall-4/
LOCATION:Gymnastiksaal im Weiherhaus-Stadion\, Dammstraße 121\, Bensheim\, 64625\, Germany
END:VEVENT
BEGIN:VEVENT
DTSTART;TZID=Europe/Berlin:20240923T180000
DTEND;TZID=Europe/Berlin:20240923T190000
DTSTAMP:20260423T030010
CREATED:20240915T154601Z
LAST-MODIFIED:20240915T162008Z
UID:8359-1727114400-1727118000@tv-bensheim.de
SUMMARY:Pilates: Vertretung durch Markus
DESCRIPTION:
URL:https://tv-bensheim.de/turnen/termine/pilates-vertretung-durch-markus/
LOCATION:Gymnastikraum | Schulsporthalle des AKG\, Franz-Liszt-Straße 8\, Bensheim\, 64625\, Germany
END:VEVENT
BEGIN:VEVENT
DTSTART;TZID=Europe/Berlin:20240923T190000
DTEND;TZID=Europe/Berlin:20240923T200000
DTSTAMP:20260423T030010
CREATED:20240915T154655Z
LAST-MODIFIED:20240915T154655Z
UID:8361-1727118000-1727121600@tv-bensheim.de
SUMMARY:Rückenfit: Vertretung durch Markus
DESCRIPTION:
URL:https://tv-bensheim.de/turnen/termine/rueckenfit-vertretung-durch-markus/
LOCATION:Gymnastikraum | Schulsporthalle des AKG\, Franz-Liszt-Straße 8\, Bensheim\, 64625\, Germany
END:VEVENT
BEGIN:VEVENT
DTSTART;TZID=Europe/Berlin:20240924T200000
DTEND;TZID=Europe/Berlin:20240924T210000
DTSTAMP:20260423T030010
CREATED:20240912T195627Z
LAST-MODIFIED:20240915T161844Z
UID:8239-1727208000-1727211600@tv-bensheim.de
SUMMARY:Bodystyling: Vertretung durch Sonja
DESCRIPTION:
URL:https://tv-bensheim.de/turnen/termine/bodystyling-vertretung-durch-sonja-2/
LOCATION:Turnhalle der Joseph-Heckler-Schule\, Hohenweg 33\, Bensheim\, 64625\, Germany
END:VEVENT
BEGIN:VEVENT
DTSTART;TZID=Europe/Berlin:20240925T083000
DTEND;TZID=Europe/Berlin:20240925T100000
DTSTAMP:20260423T030010
CREATED:20240915T153534Z
LAST-MODIFIED:20240915T153534Z
UID:8357-1727253000-1727258400@tv-bensheim.de
SUMMARY:Nordic Walking
DESCRIPTION:
URL:https://tv-bensheim.de/turnen/termine/nordic-walking-3/
LOCATION:Thermoplastik
END:VEVENT
BEGIN:VEVENT
DTSTART;TZID=Europe/Berlin:20240927T180000
DTEND;TZID=Europe/Berlin:20240927T190000
DTSTAMP:20260423T030010
CREATED:20240924T162117Z
LAST-MODIFIED:20240924T162117Z
UID:8394-1727460000-1727463600@tv-bensheim.de
SUMMARY:Zumba Gold: Entfall
DESCRIPTION:
URL:https://tv-bensheim.de/turnen/termine/zumba-gold-entfall/
LOCATION:Gymnastikraum | Schulsporthalle des AKG\, Franz-Liszt-Straße 8\, Bensheim\, 64625\, Germany
END:VEVENT
BEGIN:VEVENT
DTSTART;TZID=Europe/Berlin:20240927T191500
DTEND;TZID=Europe/Berlin:20240927T203000
DTSTAMP:20260423T030010
CREATED:20240912T195643Z
LAST-MODIFIED:20240915T161734Z
UID:8247-1727464500-1727469000@tv-bensheim.de
SUMMARY:Hatha-Yoga: Vertretung durch Markus
DESCRIPTION:
URL:https://tv-bensheim.de/turnen/termine/hatha-yoga-vertretung-durch-markus/
LOCATION:Gymnastikraum | Schulsporthalle des AKG\, Franz-Liszt-Straße 8\, Bensheim\, 64625\, Germany
END:VEVENT
BEGIN:VEVENT
DTSTART;TZID=Europe/Berlin:20240930T180000
DTEND;TZID=Europe/Berlin:20240930T190000
DTSTAMP:20260423T030010
CREATED:20240915T151212Z
LAST-MODIFIED:20240915T161631Z
UID:8312-1727719200-1727722800@tv-bensheim.de
SUMMARY:Pilates: Vertretung durch Kata
DESCRIPTION:
URL:https://tv-bensheim.de/turnen/termine/pilates-vertretung-durch-kata-5/
LOCATION:Gymnastikraum | Schulsporthalle des AKG\, Franz-Liszt-Straße 8\, Bensheim\, 64625\, Germany
END:VEVENT
BEGIN:VEVENT
DTSTART;TZID=Europe/Berlin:20240930T190000
DTEND;TZID=Europe/Berlin:20240930T200000
DTSTAMP:20260423T030010
CREATED:20240915T151252Z
LAST-MODIFIED:20240915T161553Z
UID:8314-1727722800-1727726400@tv-bensheim.de
SUMMARY:Rückenfit: Vertretung durch Kata
DESCRIPTION:
URL:https://tv-bensheim.de/turnen/termine/rueckenfit-vertretung-durch-kata-4/
LOCATION:Gymnastikraum | Schulsporthalle des AKG\, Franz-Liszt-Straße 8\, Bensheim\, 64625\, Germany
END:VEVENT
END:VCALENDAR