BEGIN:VCALENDAR
VERSION:2.0
PRODID:-//Turnen - TV 1862 Bensheim e.V - ECPv6.15.15//NONSGML v1.0//EN
CALSCALE:GREGORIAN
METHOD:PUBLISH
X-WR-CALNAME:Turnen - TV 1862 Bensheim e.V
X-ORIGINAL-URL:https://tv-bensheim.de/turnen
X-WR-CALDESC:Veranstaltungen für Turnen - TV 1862 Bensheim e.V
REFRESH-INTERVAL;VALUE=DURATION:PT1H
X-Robots-Tag:noindex
X-PUBLISHED-TTL:PT1H
BEGIN:VTIMEZONE
TZID:Europe/Berlin
BEGIN:DAYLIGHT
TZOFFSETFROM:+0100
TZOFFSETTO:+0200
TZNAME:CEST
DTSTART:20250330T010000
END:DAYLIGHT
BEGIN:STANDARD
TZOFFSETFROM:+0200
TZOFFSETTO:+0100
TZNAME:CET
DTSTART:20251026T010000
END:STANDARD
BEGIN:DAYLIGHT
TZOFFSETFROM:+0100
TZOFFSETTO:+0200
TZNAME:CEST
DTSTART:20260329T010000
END:DAYLIGHT
BEGIN:STANDARD
TZOFFSETFROM:+0200
TZOFFSETTO:+0100
TZNAME:CET
DTSTART:20261025T010000
END:STANDARD
BEGIN:DAYLIGHT
TZOFFSETFROM:+0100
TZOFFSETTO:+0200
TZNAME:CEST
DTSTART:20270328T010000
END:DAYLIGHT
BEGIN:STANDARD
TZOFFSETFROM:+0200
TZOFFSETTO:+0100
TZNAME:CET
DTSTART:20271031T010000
END:STANDARD
END:VTIMEZONE
BEGIN:VEVENT
DTSTART;TZID=Europe/Berlin:20260422T083000
DTEND;TZID=Europe/Berlin:20260422T100000
DTSTAMP:20260422T143259
CREATED:20260420T075504Z
LAST-MODIFIED:20260420T075504Z
UID:9062-1776846600-1776852000@tv-bensheim.de
SUMMARY:Nordic Walking
DESCRIPTION:
URL:https://tv-bensheim.de/turnen/termine/nordic-walking-63/
LOCATION:Parkplatz am Höllberg
END:VEVENT
END:VCALENDAR